Package: S4Vectors Version: 0.49.0 Command: /home/biocbuild/bbs-3.23-bioc/R/bin/R CMD build --keep-empty-dirs --no-resave-data S4Vectors StartedAt: 2025-11-20 19:46:05 -0500 (Thu, 20 Nov 2025) EndedAt: 2025-11-20 19:47:02 -0500 (Thu, 20 Nov 2025) EllapsedTime: 57.1 seconds RetCode: 0 Status: OK PackageFile: S4Vectors_0.49.0.tar.gz PackageFileSize: 820.7 KiB