Package: S4Vectors Version: 0.48.0 Command: /Library/Frameworks/R.framework/Resources/bin/R CMD build --keep-empty-dirs --no-resave-data S4Vectors StartedAt: 2025-10-30 01:14:04 -0400 (Thu, 30 Oct 2025) EndedAt: 2025-10-30 01:15:17 -0400 (Thu, 30 Oct 2025) EllapsedTime: 73.6 seconds RetCode: 0 Status: OK PackageFile: S4Vectors_0.48.0.tar.gz PackageFileSize: 799 KiB