Package: S4Vectors Version: 0.48.0 Command: rm -rf S4Vectors.buildbin-libdir && mkdir S4Vectors.buildbin-libdir && /Users/biocbuild/BBS/utils/build-universal.sh S4Vectors_0.48.0.tar.gz /Library/Frameworks/R.framework/Resources/bin/R S4Vectors.buildbin-libdir StartedAt: 2025-10-30 08:36:31 -0400 (Thu, 30 Oct 2025) EndedAt: 2025-10-30 08:37:20 -0400 (Thu, 30 Oct 2025) EllapsedTime: 48.8 seconds RetCode: 0 Status: OK PackageFile: S4Vectors_0.48.0.tgz PackageFileSize: 2.221 MiB