Package: S4Vectors Version: 0.47.4 Command: /Library/Frameworks/R.framework/Resources/bin/R CMD build --keep-empty-dirs --no-resave-data S4Vectors StartedAt: 2025-10-10 17:34:31 -0400 (Fri, 10 Oct 2025) EndedAt: 2025-10-10 17:34:57 -0400 (Fri, 10 Oct 2025) EllapsedTime: 25.3 seconds RetCode: 0 Status: OK PackageFile: S4Vectors_0.47.4.tar.gz PackageFileSize: 799.1 KiB