Package: S4Vectors Version: 0.47.4 Command: rm -rf S4Vectors.buildbin-libdir && mkdir S4Vectors.buildbin-libdir && /Users/biocbuild/BBS/utils/build-universal.sh S4Vectors_0.47.4.tar.gz /Library/Frameworks/R.framework/Resources/bin/R S4Vectors.buildbin-libdir StartedAt: 2025-10-10 22:55:51 -0400 (Fri, 10 Oct 2025) EndedAt: 2025-10-10 22:56:01 -0400 (Fri, 10 Oct 2025) EllapsedTime: 10.2 seconds RetCode: 0 Status: OK PackageFile: S4Vectors_0.47.4.tgz PackageFileSize: 2.211 MiB