Package: S4Arrays Version: 1.9.1 Command: /home/biocbuild/R/R/bin/R CMD build --keep-empty-dirs --no-resave-data S4Arrays StartedAt: 2025-10-21 02:44:11 -0000 (Tue, 21 Oct 2025) EndedAt: 2025-10-21 02:44:40 -0000 (Tue, 21 Oct 2025) EllapsedTime: 29.0 seconds RetCode: 0 Status: OK PackageFile: S4Arrays_1.9.1.tar.gz PackageFileSize: 312.1 KiB