Package: S4Arrays Version: 1.9.1 Command: F:\biocbuild\bbs-3.22-bioc\R\bin\R.exe CMD INSTALL S4Arrays StartedAt: 2025-08-14 15:44:53 -0400 (Thu, 14 Aug 2025) EndedAt: 2025-08-14 15:46:07 -0400 (Thu, 14 Aug 2025) EllapsedTime: 73.9 seconds RetCode: 0 Status: OK