Package: S4Arrays Version: 1.9.1 Command: rm -rf S4Arrays.buildbin-libdir && mkdir S4Arrays.buildbin-libdir && F:\biocbuild\bbs-3.22-bioc\R\bin\R.exe CMD INSTALL --build --library=S4Arrays.buildbin-libdir S4Arrays_1.9.1.tar.gz StartedAt: 2025-08-15 11:12:39 -0400 (Fri, 15 Aug 2025) EndedAt: 2025-08-15 11:14:15 -0400 (Fri, 15 Aug 2025) EllapsedTime: 96.9 seconds RetCode: 0 Status: OK PackageFile: S4Arrays_1.9.1.zip PackageFileSize: 1.16 MiB