Package: S4Arrays Version: 1.9.1 Command: /home/biocbuild/bbs-3.22-bioc/R/bin/R CMD check --install=check:S4Arrays.install-out.txt --library=/home/biocbuild/bbs-3.22-bioc/R/site-library --timings S4Arrays_1.9.1.tar.gz StartedAt: 2025-10-10 03:49:25 -0400 (Fri, 10 Oct 2025) EndedAt: 2025-10-10 03:52:09 -0400 (Fri, 10 Oct 2025) EllapsedTime: 164.3 seconds RetCode: 0 Status: OK CheckDir: S4Arrays.Rcheck Warnings: 0