Package: S4Arrays Version: 1.11.0 Command: /home/biocbuild/bbs-3.23-bioc/R/bin/R CMD INSTALL S4Arrays StartedAt: 2025-11-20 15:13:43 -0500 (Thu, 20 Nov 2025) EndedAt: 2025-11-20 15:13:59 -0500 (Thu, 20 Nov 2025) EllapsedTime: 16.2 seconds RetCode: 0 Status: OK