Package: Rvisdiff Version: 1.9.0 Command: /home/biocbuild/bbs-3.23-bioc/R/bin/R CMD check --install=check:Rvisdiff.install-out.txt --library=/home/biocbuild/bbs-3.23-bioc/R/site-library --timings Rvisdiff_1.9.0.tar.gz StartedAt: 2025-11-01 03:06:42 -0400 (Sat, 01 Nov 2025) EndedAt: 2025-11-01 03:10:12 -0400 (Sat, 01 Nov 2025) EllapsedTime: 210.3 seconds RetCode: 0 Status: OK CheckDir: Rvisdiff.Rcheck Warnings: 0