Package: Rtpca Version: 1.21.0 Command: /home/biocbuild/bbs-3.23-bioc/R/bin/R CMD build --keep-empty-dirs --no-resave-data Rtpca StartedAt: 2025-11-20 19:44:40 -0500 (Thu, 20 Nov 2025) EndedAt: 2025-11-20 19:45:03 -0500 (Thu, 20 Nov 2025) EllapsedTime: 23.0 seconds RetCode: 0 Status: OK PackageFile: Rtpca_1.21.0.tar.gz PackageFileSize: 2.182 MiB