Package: Rtpca Version: 1.19.1 Command: /Library/Frameworks/R.framework/Resources/bin/R CMD INSTALL Rtpca StartedAt: 2025-10-14 15:07:26 -0400 (Tue, 14 Oct 2025) EndedAt: 2025-10-14 15:07:30 -0400 (Tue, 14 Oct 2025) EllapsedTime: 3.6 seconds RetCode: 0 Status: OK