Package: Rtpca Version: 1.19.1 Command: /Library/Frameworks/R.framework/Resources/bin/R CMD build --keep-empty-dirs --no-resave-data Rtpca StartedAt: 2025-10-14 17:34:54 -0400 (Tue, 14 Oct 2025) EndedAt: 2025-10-14 17:35:05 -0400 (Tue, 14 Oct 2025) EllapsedTime: 11.1 seconds RetCode: 0 Status: OK PackageFile: Rtpca_1.19.1.tar.gz PackageFileSize: 2.122 MiB