Package: Rsubread Version: 2.23.4 Command: /home/biocbuild/bbs-3.22-bioc/R/bin/R CMD INSTALL Rsubread StartedAt: 2025-10-03 15:04:16 -0400 (Fri, 03 Oct 2025) EndedAt: 2025-10-03 15:05:00 -0400 (Fri, 03 Oct 2025) EllapsedTime: 44.8 seconds RetCode: 0 Status: OK