Package: Rsubread Version: 2.23.4 Command: /home/biocbuild/bbs-3.22-bioc/R/bin/R CMD build --keep-empty-dirs --no-resave-data --md5 Rsubread StartedAt: 2025-10-03 19:42:47 -0400 (Fri, 03 Oct 2025) EndedAt: 2025-10-03 19:50:50 -0400 (Fri, 03 Oct 2025) EllapsedTime: 482.5 seconds RetCode: 0 Status: OK PackageFile: Rsubread_2.23.4.tar.gz PackageFileSize: 12.97 MiB