Package: Rsubread Version: 2.25.0 Command: /home/biocbuild/bbs-3.23-bioc/R/bin/R CMD INSTALL Rsubread StartedAt: 2025-11-20 15:04:31 -0500 (Thu, 20 Nov 2025) EndedAt: 2025-11-20 15:05:19 -0500 (Thu, 20 Nov 2025) EllapsedTime: 48.3 seconds RetCode: 0 Status: OK