Package: Rsubread Version: 2.25.0 Command: /home/biocbuild/bbs-3.23-bioc/R/bin/R CMD build --keep-empty-dirs --no-resave-data Rsubread StartedAt: 2025-11-20 19:43:49 -0500 (Thu, 20 Nov 2025) EndedAt: 2025-11-20 19:51:53 -0500 (Thu, 20 Nov 2025) EllapsedTime: 483.6 seconds RetCode: 0 Status: OK PackageFile: Rsubread_2.25.0.tar.gz PackageFileSize: 12.97 MiB