Package: Rsubread Version: 2.25.0 Command: /Library/Frameworks/R.framework/Resources/bin/R CMD INSTALL Rsubread StartedAt: 2025-11-20 15:12:41 -0500 (Thu, 20 Nov 2025) EndedAt: 2025-11-20 15:13:47 -0500 (Thu, 20 Nov 2025) EllapsedTime: 65.8 seconds RetCode: 0 Status: OK