Package: Rsubread Version: 2.25.0 Command: /Library/Frameworks/R.framework/Resources/bin/R CMD build --keep-empty-dirs --no-resave-data Rsubread StartedAt: 2025-11-20 18:29:19 -0500 (Thu, 20 Nov 2025) EndedAt: 2025-11-20 18:44:26 -0500 (Thu, 20 Nov 2025) EllapsedTime: 906.9 seconds RetCode: 0 Status: OK PackageFile: Rsubread_2.25.0.tar.gz PackageFileSize: 12.96 MiB