Package: Rsubread Version: 2.23.8 Command: /Library/Frameworks/R.framework/Resources/bin/R CMD INSTALL Rsubread StartedAt: 2025-10-17 15:02:56 -0400 (Fri, 17 Oct 2025) EndedAt: 2025-10-17 15:03:11 -0400 (Fri, 17 Oct 2025) EllapsedTime: 15.7 seconds RetCode: 0 Status: OK