Package: Rsubread Version: 2.23.8 Command: /Library/Frameworks/R.framework/Resources/bin/R CMD build --keep-empty-dirs --no-resave-data Rsubread StartedAt: 2025-10-16 17:46:57 -0400 (Thu, 16 Oct 2025) EndedAt: 2025-10-16 17:51:51 -0400 (Thu, 16 Oct 2025) EllapsedTime: 294.4 seconds RetCode: 0 Status: OK PackageFile: Rsubread_2.23.8.tar.gz PackageFileSize: 12.96 MiB