Package: Rsubread Version: 2.23.8 Command: rm -rf Rsubread.buildbin-libdir && mkdir Rsubread.buildbin-libdir && /Users/biocbuild/BBS/utils/build-universal.sh Rsubread_2.23.8.tar.gz /Library/Frameworks/R.framework/Resources/bin/R Rsubread.buildbin-libdir StartedAt: 2025-10-17 23:23:23 -0400 (Fri, 17 Oct 2025) EndedAt: 2025-10-17 23:23:40 -0400 (Fri, 17 Oct 2025) EllapsedTime: 17.4 seconds RetCode: 0 Status: OK PackageFile: Rsubread_2.23.8.tgz PackageFileSize: 13.2 MiB