Package: Rsamtools Version: 2.27.0 Command: /home/biocbuild/bbs-3.23-bioc/R/bin/R CMD build --keep-empty-dirs --no-resave-data Rsamtools StartedAt: 2025-11-05 19:44:39 -0500 (Wed, 05 Nov 2025) EndedAt: 2025-11-05 19:45:40 -0500 (Wed, 05 Nov 2025) EllapsedTime: 61.1 seconds RetCode: 0 Status: OK PackageFile: Rsamtools_2.27.0.tar.gz PackageFileSize: 1.82 MiB