Package: Rsamtools Version: 2.25.3 Command: /Library/Frameworks/R.framework/Resources/bin/R CMD INSTALL Rsamtools StartedAt: 2025-10-16 15:44:29 -0400 (Thu, 16 Oct 2025) EndedAt: 2025-10-16 15:45:41 -0400 (Thu, 16 Oct 2025) EllapsedTime: 71.9 seconds RetCode: 0 Status: OK