Package: Rsamtools Version: 2.25.3 Command: /Library/Frameworks/R.framework/Resources/bin/R CMD build --keep-empty-dirs --no-resave-data Rsamtools StartedAt: 2025-10-16 19:35:11 -0400 (Thu, 16 Oct 2025) EndedAt: 2025-10-16 19:36:56 -0400 (Thu, 16 Oct 2025) EllapsedTime: 104.7 seconds RetCode: 0 Status: OK PackageFile: Rsamtools_2.25.3.tar.gz PackageFileSize: 1.82 MiB