Package: Rsamtools Version: 2.25.3 Command: /Library/Frameworks/R.framework/Resources/bin/R CMD INSTALL Rsamtools StartedAt: 2025-10-03 15:10:34 -0400 (Fri, 03 Oct 2025) EndedAt: 2025-10-03 15:10:50 -0400 (Fri, 03 Oct 2025) EllapsedTime: 15.7 seconds RetCode: 0 Status: OK