Package: Rsamtools Version: 2.25.3 Command: /Library/Frameworks/R.framework/Resources/bin/R CMD build --keep-empty-dirs --no-resave-data Rsamtools StartedAt: 2025-10-03 17:33:14 -0400 (Fri, 03 Oct 2025) EndedAt: 2025-10-03 17:33:40 -0400 (Fri, 03 Oct 2025) EllapsedTime: 26.3 seconds RetCode: 0 Status: OK PackageFile: Rsamtools_2.25.3.tar.gz PackageFileSize: 1.82 MiB