Package: Rsamtools Version: 2.25.3 Command: rm -rf Rsamtools.buildbin-libdir && mkdir Rsamtools.buildbin-libdir && /Users/biocbuild/BBS/utils/build-universal.sh Rsamtools_2.25.3.tar.gz /Library/Frameworks/R.framework/Resources/bin/R Rsamtools.buildbin-libdir StartedAt: 2025-10-03 22:53:44 -0400 (Fri, 03 Oct 2025) EndedAt: 2025-10-03 22:54:01 -0400 (Fri, 03 Oct 2025) EllapsedTime: 17.3 seconds RetCode: 0 Status: OK PackageFile: Rsamtools_2.25.3.tgz PackageFileSize: 3.092 MiB