Package: Rqc Version: 1.45.0 Command: /home/biocbuild/bbs-3.23-bioc/R/bin/R CMD INSTALL Rqc StartedAt: 2025-11-20 15:57:57 -0500 (Thu, 20 Nov 2025) EndedAt: 2025-11-20 15:58:52 -0500 (Thu, 20 Nov 2025) EllapsedTime: 54.7 seconds RetCode: 0 Status: OK