Package: Rqc Version: 1.43.0 Command: /Library/Frameworks/R.framework/Resources/bin/R CMD INSTALL Rqc StartedAt: 2025-10-10 15:53:10 -0400 (Fri, 10 Oct 2025) EndedAt: 2025-10-10 15:54:23 -0400 (Fri, 10 Oct 2025) EllapsedTime: 73.5 seconds RetCode: 0 Status: OK