Package: Rqc Version: 1.43.0 Command: /Library/Frameworks/R.framework/Resources/bin/R CMD build --keep-empty-dirs --no-resave-data Rqc StartedAt: 2025-10-10 18:58:32 -0400 (Fri, 10 Oct 2025) EndedAt: 2025-10-10 19:00:24 -0400 (Fri, 10 Oct 2025) EllapsedTime: 112.2 seconds RetCode: 0 Status: OK PackageFile: Rqc_1.43.0.tar.gz PackageFileSize: 1.308 MiB