Package: Rqc Version: 1.43.0 Maintainer: Welliton Souza MaintainerEmail: well309 at gmail.com git_url: https://git.bioconductor.org/packages/Rqc git_branch: devel git_last_commit: c099697 git_last_commit_date: 2025-04-15 10:36:13 -0400 (Tue, 15 Apr 2025)