Package: Rnits Version: 1.45.0 Command: /home/biocbuild/bbs-3.23-bioc/R/bin/R CMD INSTALL Rnits StartedAt: 2025-11-23 15:14:03 -0500 (Sun, 23 Nov 2025) EndedAt: 2025-11-23 15:14:12 -0500 (Sun, 23 Nov 2025) EllapsedTime: 8.7 seconds RetCode: 0 Status: OK