Package: Rnits Version: 1.45.0 Command: /home/biocbuild/bbs-3.23-bioc/R/bin/R CMD build --keep-empty-dirs --no-resave-data Rnits StartedAt: 2025-11-23 19:41:18 -0500 (Sun, 23 Nov 2025) EndedAt: 2025-11-23 19:42:35 -0500 (Sun, 23 Nov 2025) EllapsedTime: 77.1 seconds RetCode: 0 Status: OK PackageFile: Rnits_1.45.0.tar.gz PackageFileSize: 655 KiB