Package: RnaSeqSampleSize Version: 2.21.0 Command: /home/biocbuild/bbs-3.23-bioc/R/bin/R CMD INSTALL RnaSeqSampleSize StartedAt: 2025-11-04 15:57:23 -0500 (Tue, 04 Nov 2025) EndedAt: 2025-11-04 15:58:17 -0500 (Tue, 04 Nov 2025) EllapsedTime: 54.4 seconds RetCode: 0 Status: OK