Package: RnaSeqSampleSize Version: 2.21.0 Command: /home/biocbuild/bbs-3.23-bioc/R/bin/R CMD build --keep-empty-dirs --no-resave-data RnaSeqSampleSize StartedAt: 2025-11-04 19:35:36 -0500 (Tue, 04 Nov 2025) EndedAt: 2025-11-04 19:37:28 -0500 (Tue, 04 Nov 2025) EllapsedTime: 112.1 seconds RetCode: 0 Status: OK PackageFile: RnaSeqSampleSize_2.21.0.tar.gz PackageFileSize: 235.7 KiB