Package: RnaSeqSampleSize Version: 2.19.0 Command: /Library/Frameworks/R.framework/Resources/bin/R CMD build --keep-empty-dirs --no-resave-data RnaSeqSampleSize StartedAt: 2025-10-08 19:00:46 -0400 (Wed, 08 Oct 2025) EndedAt: 2025-10-08 19:00:52 -0400 (Wed, 08 Oct 2025) EllapsedTime: 5.8 seconds RetCode: 1 Status: ERROR PackageFile: None PackageFileSize: NA