Package: RnBeads Version: 2.29.0 Command: /home/biocbuild/bbs-3.23-bioc/R/bin/R CMD INSTALL RnBeads StartedAt: 2025-11-20 16:00:16 -0500 (Thu, 20 Nov 2025) EndedAt: 2025-11-20 16:01:39 -0500 (Thu, 20 Nov 2025) EllapsedTime: 83.5 seconds RetCode: 0 Status: OK