Package: RnBeads Version: 2.27.2 Command: /Library/Frameworks/R.framework/Resources/bin/R CMD INSTALL RnBeads StartedAt: 2025-10-24 15:59:28 -0400 (Fri, 24 Oct 2025) EndedAt: 2025-10-24 16:00:46 -0400 (Fri, 24 Oct 2025) EllapsedTime: 78.2 seconds RetCode: 0 Status: OK