Package: RnBeads Version: 2.27.2 Command: /Library/Frameworks/R.framework/Resources/bin/R CMD INSTALL RnBeads StartedAt: 2025-10-15 15:32:44 -0400 (Wed, 15 Oct 2025) EndedAt: 2025-10-15 15:33:15 -0400 (Wed, 15 Oct 2025) EllapsedTime: 31.0 seconds RetCode: 0 Status: OK