Package: RnBeads Version: 2.27.2 Command: /Library/Frameworks/R.framework/Resources/bin/R CMD build --keep-empty-dirs --no-resave-data RnBeads StartedAt: 2025-10-15 17:37:01 -0400 (Wed, 15 Oct 2025) EndedAt: 2025-10-15 17:38:11 -0400 (Wed, 15 Oct 2025) EllapsedTime: 69.7 seconds RetCode: 0 Status: OK PackageFile: RnBeads_2.27.2.tar.gz PackageFileSize: 7.566 MiB