Package: RnBeads Version: 2.27.2 Command: rm -rf RnBeads.buildbin-libdir && mkdir RnBeads.buildbin-libdir && /Users/biocbuild/BBS/utils/build-universal.sh RnBeads_2.27.2.tar.gz /Library/Frameworks/R.framework/Resources/bin/R RnBeads.buildbin-libdir StartedAt: 2025-10-15 23:00:05 -0400 (Wed, 15 Oct 2025) EndedAt: 2025-10-15 23:00:39 -0400 (Wed, 15 Oct 2025) EllapsedTime: 33.7 seconds RetCode: 0 Status: OK PackageFile: RnBeads_2.27.2.tgz PackageFileSize: 7.969 MiB