Package: Rmmquant Version: 1.27.0 Command: /home/biocbuild/R/R/bin/R CMD INSTALL Rmmquant StartedAt: 2025-10-02 21:07:26 -0000 (Thu, 02 Oct 2025) EndedAt: 2025-10-02 21:08:44 -0000 (Thu, 02 Oct 2025) EllapsedTime: 78.1 seconds RetCode: 0 Status: OK