Package: Rmmquant Version: 1.27.0 Command: /home/biocbuild/R/R/bin/R CMD build --keep-empty-dirs --no-resave-data Rmmquant StartedAt: 2025-10-03 02:39:30 -0000 (Fri, 03 Oct 2025) EndedAt: 2025-10-03 02:41:17 -0000 (Fri, 03 Oct 2025) EllapsedTime: 107.0 seconds RetCode: 0 Status: OK PackageFile: Rmmquant_1.27.0.tar.gz PackageFileSize: 45.88 KiB