Package: Rmmquant Version: 1.27.0 Command: /home/biocbuild/bbs-3.22-bioc/R/bin/R CMD check --install=check:Rmmquant.install-out.txt --library=/home/biocbuild/bbs-3.22-bioc/R/site-library --timings Rmmquant_1.27.0.tar.gz StartedAt: 2025-09-30 03:47:18 -0400 (Tue, 30 Sep 2025) EndedAt: 2025-09-30 03:52:36 -0400 (Tue, 30 Sep 2025) EllapsedTime: 318.3 seconds RetCode: 0 Status: OK CheckDir: Rmmquant.Rcheck Warnings: 0