Package: Rmagpie Version: 1.67.0 Command: /home/biocbuild/bbs-3.23-bioc/R/bin/R CMD build --keep-empty-dirs --no-resave-data Rmagpie StartedAt: 2025-10-31 19:48:17 -0400 (Fri, 31 Oct 2025) EndedAt: 2025-10-31 19:48:49 -0400 (Fri, 31 Oct 2025) EllapsedTime: 32.0 seconds RetCode: 0 Status: OK PackageFile: Rmagpie_1.67.0.tar.gz PackageFileSize: 482.3 KiB