Package: Rmagpie Version: 1.67.0 Command: /Library/Frameworks/R.framework/Resources/bin/R CMD INSTALL Rmagpie StartedAt: 2025-11-21 15:19:01 -0500 (Fri, 21 Nov 2025) EndedAt: 2025-11-21 15:19:21 -0500 (Fri, 21 Nov 2025) EllapsedTime: 19.4 seconds RetCode: 0 Status: OK