Package: Rmagpie Version: 1.67.0 Command: rm -rf Rmagpie.buildbin-libdir && mkdir Rmagpie.buildbin-libdir && /Users/biocbuild/BBS/utils/build-universal.sh Rmagpie_1.67.0.tar.gz /Library/Frameworks/R.framework/Resources/bin/R Rmagpie.buildbin-libdir StartedAt: 2025-11-22 01:53:38 -0500 (Sat, 22 Nov 2025) EndedAt: 2025-11-22 01:54:00 -0500 (Sat, 22 Nov 2025) EllapsedTime: 21.8 seconds RetCode: 0 Status: OK PackageFile: Rmagpie_1.67.0.tgz PackageFileSize: 858.8 KiB