Package: Rmagpie Version: 1.65.0 Command: /Library/Frameworks/R.framework/Resources/bin/R CMD INSTALL Rmagpie StartedAt: 2025-10-07 15:06:57 -0400 (Tue, 07 Oct 2025) EndedAt: 2025-10-07 15:07:03 -0400 (Tue, 07 Oct 2025) EllapsedTime: 5.8 seconds RetCode: 0 Status: OK